BEGIN:VCALENDAR
VERSION:2.0
PRODID:-//Messiah Lutheran Church - ECPv4.6//NONSGML v1.0//EN
CALSCALE:GREGORIAN
METHOD:PUBLISH
X-WR-CALNAME:Messiah Lutheran Church
X-ORIGINAL-URL:https://messiahlutheranchurchhouston.org
X-WR-CALDESC:Events for Messiah Lutheran Church
BEGIN:VEVENT
DTSTART;TZID=UTC+0:20170420T100000
DTEND;TZID=UTC+0:20170420T110000
DTSTAMP:20260421T004010
CREATED:20170329T213241Z
LAST-MODIFIED:20170329T213241Z
UID:1037-1492682400-1492686000@messiahlutheranchurchhouston.org
SUMMARY:Bible Study at Corner Bakery
DESCRIPTION:
URL:https://messiahlutheranchurchhouston.org/event/bible-study-at-corner-bakery-8/
END:VEVENT
END:VCALENDAR