BEGIN:VCALENDAR
VERSION:2.0
PRODID:-//Messiah Lutheran Church - ECPv4.6//NONSGML v1.0//EN
CALSCALE:GREGORIAN
METHOD:PUBLISH
X-WR-CALNAME:Messiah Lutheran Church
X-ORIGINAL-URL:https://messiahlutheranchurchhouston.org
X-WR-CALDESC:Events for Messiah Lutheran Church
BEGIN:VEVENT
DTSTART;TZID=UTC+0:20170406T100000
DTEND;TZID=UTC+0:20170406T110000
DTSTAMP:20260421T004009
CREATED:20170329T213051Z
LAST-MODIFIED:20170329T213051Z
UID:1033-1491472800-1491476400@messiahlutheranchurchhouston.org
SUMMARY:Bible Study at Corner Bakery
DESCRIPTION:
URL:https://messiahlutheranchurchhouston.org/event/bible-study-at-corner-bakery-6/
END:VEVENT
END:VCALENDAR