BEGIN:VCALENDAR
VERSION:2.0
PRODID:-//Messiah Lutheran Church - ECPv4.6//NONSGML v1.0//EN
CALSCALE:GREGORIAN
METHOD:PUBLISH
X-WR-CALNAME:Messiah Lutheran Church
X-ORIGINAL-URL:https://messiahlutheranchurchhouston.org
X-WR-CALDESC:Events for Messiah Lutheran Church
BEGIN:VEVENT
DTSTART;TZID=UTC+0:20170330T100000
DTEND;TZID=UTC+0:20170330T110000
DTSTAMP:20260421T003845
CREATED:20170302T193255Z
LAST-MODIFIED:20170302T193255Z
UID:960-1490868000-1490871600@messiahlutheranchurchhouston.org
SUMMARY:Bible Study at Corner Bakery
DESCRIPTION:
URL:https://messiahlutheranchurchhouston.org/event/bible-study-at-corner-bakery-5/
END:VEVENT
END:VCALENDAR