BEGIN:VCALENDAR
VERSION:2.0
PRODID:-//Messiah Lutheran Church - ECPv4.6//NONSGML v1.0//EN
CALSCALE:GREGORIAN
METHOD:PUBLISH
X-WR-CALNAME:Messiah Lutheran Church
X-ORIGINAL-URL:https://messiahlutheranchurchhouston.org
X-WR-CALDESC:Events for Messiah Lutheran Church
BEGIN:VEVENT
DTSTART;TZID=UTC+0:20230507T101500
DTEND;TZID=UTC+0:20230507T111500
DTSTAMP:20260423T011435
CREATED:20230420T165824Z
LAST-MODIFIED:20230420T165824Z
UID:4956-1683454500-1683458100@messiahlutheranchurchhouston.org
SUMMARY:Bible Study
DESCRIPTION:
URL:https://messiahlutheranchurchhouston.org/event/bible-study-87/
END:VEVENT
END:VCALENDAR