BEGIN:VCALENDAR
VERSION:2.0
PRODID:-//Messiah Lutheran Church - ECPv4.6//NONSGML v1.0//EN
CALSCALE:GREGORIAN
METHOD:PUBLISH
X-WR-CALNAME:Messiah Lutheran Church
X-ORIGINAL-URL:https://messiahlutheranchurchhouston.org
X-WR-CALDESC:Events for Messiah Lutheran Church
BEGIN:VEVENT
DTSTART;TZID=UTC+0:20230312T101500
DTEND;TZID=UTC+0:20230312T111500
DTSTAMP:20260423T130507
CREATED:20230222T185125Z
LAST-MODIFIED:20230222T185125Z
UID:4846-1678616100-1678619700@messiahlutheranchurchhouston.org
SUMMARY:Bible Study
DESCRIPTION:
URL:https://messiahlutheranchurchhouston.org/event/bible-study-81/
END:VEVENT
END:VCALENDAR