BEGIN:VCALENDAR
VERSION:2.0
PRODID:-//Messiah Lutheran Church - ECPv4.6//NONSGML v1.0//EN
CALSCALE:GREGORIAN
METHOD:PUBLISH
X-WR-CALNAME:Messiah Lutheran Church
X-ORIGINAL-URL:https://messiahlutheranchurchhouston.org
X-WR-CALDESC:Events for Messiah Lutheran Church
BEGIN:VEVENT
DTSTART;TZID=UTC+0:20220313T101500
DTEND;TZID=UTC+0:20220313T111500
DTSTAMP:20260421T180501
CREATED:20220223T185323Z
LAST-MODIFIED:20220223T185323Z
UID:4109-1647166500-1647170100@messiahlutheranchurchhouston.org
SUMMARY:Bible Study
DESCRIPTION:
URL:https://messiahlutheranchurchhouston.org/event/bible-study-38/
END:VEVENT
END:VCALENDAR