BEGIN:VCALENDAR
VERSION:2.0
PRODID:-//Messiah Lutheran Church - ECPv4.6//NONSGML v1.0//EN
CALSCALE:GREGORIAN
METHOD:PUBLISH
X-WR-CALNAME:Messiah Lutheran Church
X-ORIGINAL-URL:https://messiahlutheranchurchhouston.org
X-WR-CALDESC:Events for Messiah Lutheran Church
BEGIN:VEVENT
DTSTART;TZID=UTC+0:20220306T101500
DTEND;TZID=UTC+0:20220306T111500
DTSTAMP:20260421T150701
CREATED:20220223T185238Z
LAST-MODIFIED:20220223T185238Z
UID:4105-1646561700-1646565300@messiahlutheranchurchhouston.org
SUMMARY:Bible Study
DESCRIPTION:
URL:https://messiahlutheranchurchhouston.org/event/bible-study-37/
END:VEVENT
END:VCALENDAR