BEGIN:VCALENDAR
VERSION:2.0
PRODID:-//Messiah Lutheran Church - ECPv4.6//NONSGML v1.0//EN
CALSCALE:GREGORIAN
METHOD:PUBLISH
X-WR-CALNAME:Messiah Lutheran Church
X-ORIGINAL-URL:https://messiahlutheranchurchhouston.org
X-WR-CALDESC:Events for Messiah Lutheran Church
BEGIN:VEVENT
DTSTART;TZID=UTC+0:20171210T101500
DTEND;TZID=UTC+0:20171210T111500
DTSTAMP:20260422T083530
CREATED:20171128T203350Z
LAST-MODIFIED:20171128T203350Z
UID:1437-1512900900-1512904500@messiahlutheranchurchhouston.org
SUMMARY:Bible Class
DESCRIPTION:
URL:https://messiahlutheranchurchhouston.org/event/bible-class-37/
END:VEVENT
END:VCALENDAR