BEGIN:VCALENDAR
VERSION:2.0
PRODID:-//Messiah Lutheran Church - ECPv4.6//NONSGML v1.0//EN
CALSCALE:GREGORIAN
METHOD:PUBLISH
X-WR-CALNAME:Messiah Lutheran Church
X-ORIGINAL-URL:https://messiahlutheranchurchhouston.org
X-WR-CALDESC:Events for Messiah Lutheran Church
BEGIN:VEVENT
DTSTART;TZID=UTC+0:20170730T101500
DTEND;TZID=UTC+0:20170730T111500
DTSTAMP:20260419T234457
CREATED:20170626T175913Z
LAST-MODIFIED:20170626T175913Z
UID:1185-1501409700-1501413300@messiahlutheranchurchhouston.org
SUMMARY:Bible Class
DESCRIPTION:
URL:https://messiahlutheranchurchhouston.org/event/bible-class-21/
END:VEVENT
END:VCALENDAR