BEGIN:VCALENDAR
VERSION:2.0
PRODID:-//Messiah Lutheran Church - ECPv4.6//NONSGML v1.0//EN
CALSCALE:GREGORIAN
METHOD:PUBLISH
X-WR-CALNAME:Messiah Lutheran Church
X-ORIGINAL-URL:https://messiahlutheranchurchhouston.org
X-WR-CALDESC:Events for Messiah Lutheran Church
BEGIN:VEVENT
DTSTART;TZID=UTC+0:20170716T101500
DTEND;TZID=UTC+0:20170716T111500
DTSTAMP:20260420T022610
CREATED:20170626T175445Z
LAST-MODIFIED:20170626T175445Z
UID:1173-1500200100-1500203700@messiahlutheranchurchhouston.org
SUMMARY:Bible Class
DESCRIPTION:
URL:https://messiahlutheranchurchhouston.org/event/bible-class-19/
END:VEVENT
END:VCALENDAR