BEGIN:VCALENDAR
VERSION:2.0
PRODID:-//Messiah Lutheran Church - ECPv4.6//NONSGML v1.0//EN
CALSCALE:GREGORIAN
METHOD:PUBLISH
X-WR-CALNAME:Messiah Lutheran Church
X-ORIGINAL-URL:https://messiahlutheranchurchhouston.org
X-WR-CALDESC:Events for Messiah Lutheran Church
BEGIN:VEVENT
DTSTART;TZID=UTC+0:20170618T101500
DTEND;TZID=UTC+0:20170618T111500
DTSTAMP:20260420T110905
CREATED:20170517T181919Z
LAST-MODIFIED:20170517T181919Z
UID:1117-1497780900-1497784500@messiahlutheranchurchhouston.org
SUMMARY:Bible Class
DESCRIPTION:
URL:https://messiahlutheranchurchhouston.org/event/bible-class-15/
END:VEVENT
END:VCALENDAR