BEGIN:VCALENDAR
VERSION:2.0
PRODID:-//Messiah Lutheran Church - ECPv4.6//NONSGML v1.0//EN
CALSCALE:GREGORIAN
METHOD:PUBLISH
X-WR-CALNAME:Messiah Lutheran Church
X-ORIGINAL-URL:https://messiahlutheranchurchhouston.org
X-WR-CALDESC:Events for Messiah Lutheran Church
BEGIN:VEVENT
DTSTART;TZID=UTC+0:20170405T100000
DTEND;TZID=UTC+0:20170405T110000
DTSTAMP:20260421T021322
CREATED:20170329T212735Z
LAST-MODIFIED:20170329T212735Z
UID:1025-1491386400-1491390000@messiahlutheranchurchhouston.org
SUMMARY:Alpha Class
DESCRIPTION:
URL:https://messiahlutheranchurchhouston.org/event/alpha-class-6/
END:VEVENT
END:VCALENDAR