BEGIN:VCALENDAR
VERSION:2.0
PRODID:-//Messiah Lutheran Church - ECPv4.6//NONSGML v1.0//EN
CALSCALE:GREGORIAN
METHOD:PUBLISH
X-WR-CALNAME:Messiah Lutheran Church
X-ORIGINAL-URL:https://messiahlutheranchurchhouston.org
X-WR-CALDESC:Events for Messiah Lutheran Church
BEGIN:VEVENT
DTSTART;VALUE=DATE:20170326
DTEND;VALUE=DATE:20170326
DTSTAMP:20260421T100834
CREATED:20170302T190257Z
LAST-MODIFIED:20170302T190804Z
UID:950-1490486400-1490572799@messiahlutheranchurchhouston.org
SUMMARY:4th Sunday in Lent
DESCRIPTION:
URL:https://messiahlutheranchurchhouston.org/event/4th-sunday-in-lent-2/
END:VEVENT
END:VCALENDAR